BEGIN:VCALENDAR
VERSION:2.0
PRODID:Events Booking
BEGIN:VEVENT
UID:69e7bdfe0a5bd
SUMMARY:Algemene Leden Vergadering 2026
DESCRIPTION:
LOCATION:Tilburgseweg 106 Goirle
DTSTART:20260226T183000Z
DTEND:20260226T210000Z
DTSTAMP:20260124T091554Z
ORGANIZER;CN=Website WTC De Hellen:MAILTO:webmaster@wtcdehellen.nl
GEO:51.523903;5.065715
X-APPLE-STRUCTURED-LOCATION;VALUE=URI;X-ADDRESS=Tilburgseweg 106 Goirle;X-A
 PPLE-RADIUS=72;X-TITLE=Broeder Liplap:51.523903;5.065715
END:VEVENT
END:VCALENDAR